BEGIN:VCALENDAR
VERSION:2.0
PRODID:-//ChamberMaster//Event Calendar 2.0//EN
METHOD:PUBLISH
X-PUBLISHED-TTL:P3D
REFRESH-INTERVAL:P3D
CALSCALE:GREGORIAN
BEGIN:VEVENT
DTSTART:20220428T150000Z
DTEND:20220428T180000Z
X-MICROSOFT-CDO-ALLDAYEVENT:FALSE
SUMMARY:Culinary & Hospitality Job Fair
DESCRIPTION:Culinary & Hospitality Job Fair at Jefferson State Community College\n\nShelby-Hoover Branch
X-ALT-DESC;FMTTYPE=text/html:Culinary &amp\; Hospitality Job Fair at Jefferson State Community College<br />\nShelby-Hoover Branch
LOCATION:4600 Valleydale Road Hoover\, AL 35244 Judy Merritt Building Multipurpose Room 129
UID:e.3294.1643
SEQUENCE:3
DTSTAMP:20260426T024736Z
URL:https://business.hooverchamber.org/events/details/culinary-hospitality-job-fair-1643
END:VEVENT

END:VCALENDAR
