BEGIN:VCALENDAR
VERSION:2.0
PRODID:-//ChamberMaster//Event Calendar 2.0//EN
METHOD:PUBLISH
X-PUBLISHED-TTL:P3D
REFRESH-INTERVAL:P3D
CALSCALE:GREGORIAN
BEGIN:VEVENT
DTSTART:20211104T123000Z
DTEND:20211104T140000Z
X-MICROSOFT-CDO-ALLDAYEVENT:FALSE
SUMMARY:Coffee & Contacts at Fairfield Inn - Colonnade
DESCRIPTION:Coffee & Contacts at Fairfield Inn & Suites  - Colonnade
X-ALT-DESC;FMTTYPE=text/html:Coffee &amp\; Contacts at Fairfield Inn &amp\; Suites&nbsp\; - Colonnade
LOCATION:3930 Colonnade Parkway Birmingham 35243 205-969-7630
UID:e.3294.1446
SEQUENCE:3
DTSTAMP:20260419T180305Z
URL:https://business.hooverchamber.org/events/details/coffee-contacts-at-fairfield-inn-colonnade-1446
END:VEVENT

END:VCALENDAR
