BEGIN:VCALENDAR
VERSION:2.0
PRODID:-//ChamberMaster//Event Calendar 2.0//EN
METHOD:PUBLISH
X-PUBLISHED-TTL:P3D
REFRESH-INTERVAL:P3D
CALSCALE:GREGORIAN
BEGIN:VEVENT
DTSTART:20240315T150000Z
DTEND:20240315T210000Z
X-MICROSOFT-CDO-ALLDAYEVENT:FALSE
SUMMARY:Celebration 2024: The Bluff Park Art Association Showcases Black and Women Artists
DESCRIPTION:
X-ALT-DESC;FMTTYPE=text/html:
LOCATION:
UID:e.3294.4245
SEQUENCE:3
DTSTAMP:20260421T065217Z
URL:https://business.hooverchamber.org/events/details/celebration-2024-the-bluff-park-art-association-showcases-black-and-women-artists-03-15-2024-4245
END:VEVENT

END:VCALENDAR
