BEGIN:VCALENDAR
VERSION:2.0
PRODID:-//ChamberMaster//Event Calendar 2.0//EN
METHOD:PUBLISH
X-PUBLISHED-TTL:P3D
REFRESH-INTERVAL:P3D
CALSCALE:GREGORIAN
BEGIN:VEVENT
DTSTART:20220430T160000Z
DTEND:20220430T200000Z
X-MICROSOFT-CDO-ALLDAYEVENT:FALSE
SUMMARY:Celebrate Hoover 2022
DESCRIPTION:Hoover Area Chamber of Commerce cordially invites chamber members to participate in Celebrate Hoover 2022\, a city-wide festival. We expect a great day of live entertainment\, kids' activities\, tens of thousands of attendees
X-ALT-DESC;FMTTYPE=text/html:<span style="font-size:18px\;"><span style="font-family:arial\;"><span style="color:#444444\;">Hoover Area Chamber of Commerce cordially <strong>invites </strong>chamber members to participate in Celebrate Hoover 2022\, a city-wide festival. We expect a great day of live entertainment\, kids&#39\; activities\, tens of thousands of attendees</span></span></span><br />\n<br />\n&nbsp\;
LOCATION:Veterans Park on Valleydale 4800 Valleydale Road Hoover\, AL 35242
UID:e.3294.1632
SEQUENCE:3
DTSTAMP:20260426T024628Z
URL:https://business.hooverchamber.org/events/details/celebrate-hoover-2022-1632
END:VEVENT

END:VCALENDAR
