BEGIN:VCALENDAR
VERSION:2.0
PRODID:-//ChamberMaster//Event Calendar 2.0//EN
METHOD:PUBLISH
X-PUBLISHED-TTL:P3D
REFRESH-INTERVAL:P3D
CALSCALE:GREGORIAN
BEGIN:VEVENT
DTSTART:20220815T130000Z
DTEND:20220815T220000Z
X-MICROSOFT-CDO-ALLDAYEVENT:FALSE
SUMMARY:Buccaneer Touchdown Club Golf Classic
DESCRIPTION:Buccaneer Touchdown Club Golf Classic\n\n\n\nRegistration is live! for 2022 BTC Golf Classic at Ross Bridge on Monday\, August 15TH. \n\n \n\n2 FLIGHTS: \n\n8:00 am = 15 teams\n\n \n\n2:00 pm = 30 teams\n\n \n\nUse QR Code on flyer to register:\n\nhttps://gofan.co/app/events/619627?schoolId=AL1076
X-ALT-DESC;FMTTYPE=text/html:Buccaneer Touchdown Club Golf Classic<br />\n<br />\nRegistration is live! for 2022 BTC Golf Classic at Ross Bridge on Monday\, August 15TH.&nbsp\;<br />\n&nbsp\;<br />\n2 FLIGHTS:&nbsp\;<br />\n8:00 am = 15 teams<br />\n&nbsp\;<br />\n2:00 pm = 30 teams<br />\n&nbsp\;<br />\nUse QR Code on flyer to register:<br />\n<a href="https://gofan.co/app/events/619627?schoolId=AL1076">https://gofan.co/app/events/619627?schoolId=AL1076</a><br />\n&nbsp\;
LOCATION:Renaissance Ros Bridge Golf Resort & Spa 4000 Grand Avenue Hoover\, AL 35226
UID:e.3294.1660
SEQUENCE:3
DTSTAMP:20260425T205457Z
URL:https://business.hooverchamber.org/events/details/buccaneer-touchdown-club-golf-classic-1660
END:VEVENT

END:VCALENDAR
