BEGIN:VCALENDAR
VERSION:2.0
PRODID:-//ChamberMaster//Event Calendar 2.0//EN
METHOD:PUBLISH
X-PUBLISHED-TTL:P3D
REFRESH-INTERVAL:P3D
CALSCALE:GREGORIAN
BEGIN:VEVENT
DTSTART;VALUE=DATE:20220728
DTEND;VALUE=DATE:20220811
TRANSP:TRANSPARENT
X-MICROSOFT-CDO-ALLDAYEVENT:TRUE
SUMMARY:AmTrykes for Veterans
DESCRIPTION:AmTrykes for Veterans\n\n\n\nSponsored by: AMBUCS/Birmingham Chapter
X-ALT-DESC;FMTTYPE=text/html:AmTrykes for Veterans<br />\n<br />\nSponsored by: AMBUCS/Birmingham Chapter
LOCATION:Mail Veteran AmTryke Request Form to: AMBUCS/Birmingham Chapter 1929 Canyon Road Vestavia Hills\, AL 35216 https://birminghamambucs.org/veterans/ Veteran AmTryke Request Packet
UID:e.3294.1670
SEQUENCE:3
DTSTAMP:20260425T204317Z
URL:https://business.hooverchamber.org/events/details/amtrykes-for-veterans-1670
END:VEVENT

END:VCALENDAR
